BEGIN:VCALENDAR
VERSION:2.0
PRODID:-//Bydgoska Akademia Tenisowa - ECPv6.11.2//NONSGML v1.0//EN
CALSCALE:GREGORIAN
METHOD:PUBLISH
X-ORIGINAL-URL:https://bydgoskatenisowa.pl
X-WR-CALDESC:Wydarzenia dla Bydgoska Akademia Tenisowa
REFRESH-INTERVAL;VALUE=DURATION:PT1H
X-Robots-Tag:noindex
X-PUBLISHED-TTL:PT1H
BEGIN:VTIMEZONE
TZID:Europe/Warsaw
BEGIN:DAYLIGHT
TZOFFSETFROM:+0100
TZOFFSETTO:+0200
TZNAME:CEST
DTSTART:20250330T010000
END:DAYLIGHT
BEGIN:STANDARD
TZOFFSETFROM:+0200
TZOFFSETTO:+0100
TZNAME:CET
DTSTART:20251026T010000
END:STANDARD
END:VTIMEZONE
BEGIN:VEVENT
DTSTART;VALUE=DATE:20250127
DTEND;VALUE=DATE:20250201
DTSTAMP:20260421T011038
CREATED:20241015T141322Z
LAST-MODIFIED:20250205T082740Z
UID:27994-1737936000-1738367999@bydgoskatenisowa.pl
SUMMARY:27 - 31 stycznia
DESCRIPTION:
URL:https://bydgoskatenisowa.pl/event/zima-2025-27-31-stycznia/
LOCATION:Bydgoska Akademia Tenisowa\, Przemysła II 17\, Bydgoszcz\, 85-796\, Poland
CATEGORIES:Zima
ATTACH;FMTTYPE=image/jpeg:https://bydgoskatenisowa.pl/wp-content/uploads/2024/10/13-grafik.jpg
END:VEVENT
END:VCALENDAR