BEGIN:VCALENDAR
VERSION:2.0
PRODID:-//Bydgoska Akademia Tenisowa - ECPv6.11.2//NONSGML v1.0//EN
CALSCALE:GREGORIAN
METHOD:PUBLISH
X-WR-CALNAME:Bydgoska Akademia Tenisowa
X-ORIGINAL-URL:https://bydgoskatenisowa.pl
X-WR-CALDESC:Wydarzenia dla Bydgoska Akademia Tenisowa
REFRESH-INTERVAL;VALUE=DURATION:PT1H
X-Robots-Tag:noindex
X-PUBLISHED-TTL:PT1H
BEGIN:VTIMEZONE
TZID:Europe/Warsaw
BEGIN:DAYLIGHT
TZOFFSETFROM:+0100
TZOFFSETTO:+0200
TZNAME:CEST
DTSTART:20250330T010000
END:DAYLIGHT
BEGIN:STANDARD
TZOFFSETFROM:+0200
TZOFFSETTO:+0100
TZNAME:CET
DTSTART:20251026T010000
END:STANDARD
END:VTIMEZONE
BEGIN:VEVENT
DTSTART;TZID=Europe/Warsaw:20251123T100000
DTEND;TZID=Europe/Warsaw:20251123T140000
DTSTAMP:20260420T071213
CREATED:20241016T083923Z
LAST-MODIFIED:20251117T212226Z
UID:28090-1763892000-1763906400@bydgoskatenisowa.pl
SUMMARY:23 listopada 10:00 - 14:00
DESCRIPTION:
URL:https://bydgoskatenisowa.pl/event/turniej-23-listopada/
LOCATION:Bydgoska Akademia Tenisowa\, Przemysła II 17\, Bydgoszcz\, 85-796\, Poland
CATEGORIES:Grand Prix,Grupa Zielona
END:VEVENT
END:VCALENDAR