BEGIN:VCALENDAR
VERSION:2.0
PRODID:-//Bydgoska Akademia Tenisowa - ECPv6.11.2//NONSGML v1.0//EN
CALSCALE:GREGORIAN
METHOD:PUBLISH
X-ORIGINAL-URL:https://bydgoskatenisowa.pl
X-WR-CALDESC:Wydarzenia dla Bydgoska Akademia Tenisowa
REFRESH-INTERVAL;VALUE=DURATION:PT1H
X-Robots-Tag:noindex
X-PUBLISHED-TTL:PT1H
BEGIN:VTIMEZONE
TZID:Europe/Warsaw
BEGIN:DAYLIGHT
TZOFFSETFROM:+0100
TZOFFSETTO:+0200
TZNAME:CEST
DTSTART:20260329T010000
END:DAYLIGHT
BEGIN:STANDARD
TZOFFSETFROM:+0200
TZOFFSETTO:+0100
TZNAME:CET
DTSTART:20261025T010000
END:STANDARD
END:VTIMEZONE
BEGIN:VEVENT
DTSTART;TZID=Europe/Warsaw:20260125T100000
DTEND;TZID=Europe/Warsaw:20260125T140000
DTSTAMP:20260420T034058
CREATED:20241016T075947Z
LAST-MODIFIED:20251117T211336Z
UID:28051-1769335200-1769349600@bydgoskatenisowa.pl
SUMMARY:25 stycznia 10:00 - 14:00
DESCRIPTION:
URL:https://bydgoskatenisowa.pl/event/turniej-25-stycznia/
LOCATION:Bydgoska Akademia Tenisowa\, Przemysła II 17\, Bydgoszcz\, 85-796\, Poland
CATEGORIES:Grand Prix,Grupa Pomarańczowa
END:VEVENT
BEGIN:VEVENT
DTSTART;TZID=Europe/Warsaw:20260125T100000
DTEND;TZID=Europe/Warsaw:20260125T140000
DTSTAMP:20260420T034058
CREATED:20260218T113535Z
LAST-MODIFIED:20260218T115630Z
UID:30412-1769335200-1769349600@bydgoskatenisowa.pl
SUMMARY:25 stycznia 10:00 - 14:00
DESCRIPTION:
URL:https://bydgoskatenisowa.pl/event/turniej-18-stycznia-2/
LOCATION:Bydgoska Akademia Tenisowa\, Przemysła II 17\, Bydgoszcz\, 85-796\, Poland
CATEGORIES:Grand Prix,Grupa Żółta 2
END:VEVENT
END:VCALENDAR