BEGIN:VCALENDAR
VERSION:2.0
PRODID:-//Bydgoska Akademia Tenisowa - ECPv6.11.2//NONSGML v1.0//EN
CALSCALE:GREGORIAN
METHOD:PUBLISH
X-WR-CALNAME:Bydgoska Akademia Tenisowa
X-ORIGINAL-URL:https://bydgoskatenisowa.pl
X-WR-CALDESC:Wydarzenia dla Bydgoska Akademia Tenisowa
REFRESH-INTERVAL;VALUE=DURATION:PT1H
X-Robots-Tag:noindex
X-PUBLISHED-TTL:PT1H
BEGIN:VTIMEZONE
TZID:Europe/Warsaw
BEGIN:DAYLIGHT
TZOFFSETFROM:+0100
TZOFFSETTO:+0200
TZNAME:CEST
DTSTART:20260329T010000
END:DAYLIGHT
BEGIN:STANDARD
TZOFFSETFROM:+0200
TZOFFSETTO:+0100
TZNAME:CET
DTSTART:20261025T010000
END:STANDARD
END:VTIMEZONE
BEGIN:VEVENT
DTSTART;TZID=Europe/Warsaw:20260111T100000
DTEND;TZID=Europe/Warsaw:20260111T140000
DTSTAMP:20260420T034245
CREATED:20241016T083858Z
LAST-MODIFIED:20251117T212329Z
UID:28088-1768125600-1768140000@bydgoskatenisowa.pl
SUMMARY:11 stycznia 10:00 - 14:00
DESCRIPTION:
URL:https://bydgoskatenisowa.pl/event/turniej-11-stycznia-2/
LOCATION:Bydgoska Akademia Tenisowa\, Przemysła II 17\, Bydgoszcz\, 85-796\, Poland
CATEGORIES:Grand Prix,Grupa Zielona
END:VEVENT
BEGIN:VEVENT
DTSTART;TZID=Europe/Warsaw:20260111T140000
DTEND;TZID=Europe/Warsaw:20260111T170000
DTSTAMP:20260420T034245
CREATED:20241016T080607Z
LAST-MODIFIED:20251117T211749Z
UID:28062-1768140000-1768150800@bydgoskatenisowa.pl
SUMMARY:11 stycznia 14:00 - 17:00
DESCRIPTION:
URL:https://bydgoskatenisowa.pl/event/turniej-11-stycznia/
LOCATION:Bydgoska Akademia Tenisowa\, Przemysła II 17\, Bydgoszcz\, 85-796\, Poland
CATEGORIES:Grand Prix,Grupa Pomarańczowa 2
END:VEVENT
BEGIN:VEVENT
DTSTART;TZID=Europe/Warsaw:20260117T150000
DTEND;TZID=Europe/Warsaw:20260117T180000
DTSTAMP:20260420T034245
CREATED:20241016T075113Z
LAST-MODIFIED:20251117T210723Z
UID:28037-1768662000-1768672800@bydgoskatenisowa.pl
SUMMARY:17 stycznia 15:00 - 18:00
DESCRIPTION:
URL:https://bydgoskatenisowa.pl/event/turniej-17-stycznia/
LOCATION:Bydgoska Akademia Tenisowa\, Przemysła II 17\, Bydgoszcz\, 85-796\, Poland
CATEGORIES:Grand Prix,Grupa Czerwona
END:VEVENT
BEGIN:VEVENT
DTSTART;TZID=Europe/Warsaw:20260118T100000
DTEND;TZID=Europe/Warsaw:20260118T140000
DTSTAMP:20260420T034245
CREATED:20241016T083122Z
LAST-MODIFIED:20251117T212631Z
UID:28080-1768730400-1768744800@bydgoskatenisowa.pl
SUMMARY:18 stycznia 10:00 - 14:00
DESCRIPTION:
URL:https://bydgoskatenisowa.pl/event/turniej-18-stycznia/
LOCATION:Bydgoska Akademia Tenisowa\, Przemysła II 17\, Bydgoszcz\, 85-796\, Poland
CATEGORIES:Grand Prix,Grupa Żółta
END:VEVENT
BEGIN:VEVENT
DTSTART;TZID=Europe/Warsaw:20260125T100000
DTEND;TZID=Europe/Warsaw:20260125T140000
DTSTAMP:20260420T034245
CREATED:20241016T075947Z
LAST-MODIFIED:20251117T211336Z
UID:28051-1769335200-1769349600@bydgoskatenisowa.pl
SUMMARY:25 stycznia 10:00 - 14:00
DESCRIPTION:
URL:https://bydgoskatenisowa.pl/event/turniej-25-stycznia/
LOCATION:Bydgoska Akademia Tenisowa\, Przemysła II 17\, Bydgoszcz\, 85-796\, Poland
CATEGORIES:Grand Prix,Grupa Pomarańczowa
END:VEVENT
BEGIN:VEVENT
DTSTART;TZID=Europe/Warsaw:20260125T100000
DTEND;TZID=Europe/Warsaw:20260125T140000
DTSTAMP:20260420T034245
CREATED:20260218T113535Z
LAST-MODIFIED:20260218T115630Z
UID:30412-1769335200-1769349600@bydgoskatenisowa.pl
SUMMARY:25 stycznia 10:00 - 14:00
DESCRIPTION:
URL:https://bydgoskatenisowa.pl/event/turniej-18-stycznia-2/
LOCATION:Bydgoska Akademia Tenisowa\, Przemysła II 17\, Bydgoszcz\, 85-796\, Poland
CATEGORIES:Grand Prix,Grupa Żółta 2
END:VEVENT
BEGIN:VEVENT
DTSTART;TZID=Europe/Warsaw:20260228T150000
DTEND;TZID=Europe/Warsaw:20260228T180000
DTSTAMP:20260420T034245
CREATED:20241016T080545Z
LAST-MODIFIED:20251117T211920Z
UID:28063-1772290800-1772301600@bydgoskatenisowa.pl
SUMMARY:28 lutego 15:00 - 18:00
DESCRIPTION:
URL:https://bydgoskatenisowa.pl/event/turniej-28-lutego/
LOCATION:Bydgoska Akademia Tenisowa\, Przemysła II 17\, Bydgoszcz\, 85-796\, Poland
CATEGORIES:Grand Prix,Grupa Pomarańczowa 2
END:VEVENT
BEGIN:VEVENT
DTSTART;TZID=Europe/Warsaw:20260301T100000
DTEND;TZID=Europe/Warsaw:20260301T140000
DTSTAMP:20260420T034245
CREATED:20241016T083820Z
LAST-MODIFIED:20251117T212412Z
UID:28085-1772359200-1772373600@bydgoskatenisowa.pl
SUMMARY:1 marca 10:00 - 14:00
DESCRIPTION:
URL:https://bydgoskatenisowa.pl/event/turniej-1-marca/
LOCATION:Bydgoska Akademia Tenisowa\, Przemysła II 17\, Bydgoszcz\, 85-796\, Poland
CATEGORIES:Grand Prix,Grupa Zielona
END:VEVENT
BEGIN:VEVENT
DTSTART;TZID=Europe/Warsaw:20260307T150000
DTEND;TZID=Europe/Warsaw:20260307T180000
DTSTAMP:20260420T034245
CREATED:20241016T074932Z
LAST-MODIFIED:20251117T210855Z
UID:28035-1772895600-1772906400@bydgoskatenisowa.pl
SUMMARY:7 marca 15:00 - 18:00
DESCRIPTION:
URL:https://bydgoskatenisowa.pl/event/turniej-7-marca/
LOCATION:Bydgoska Akademia Tenisowa\, Przemysła II 17\, Bydgoszcz\, 85-796\, Poland
CATEGORIES:Grand Prix,Grupa Czerwona
END:VEVENT
BEGIN:VEVENT
DTSTART;TZID=Europe/Warsaw:20260315T100000
DTEND;TZID=Europe/Warsaw:20260315T140000
DTSTAMP:20260420T034245
CREATED:20241016T075923Z
LAST-MODIFIED:20251117T211415Z
UID:28050-1773568800-1773583200@bydgoskatenisowa.pl
SUMMARY:15 marca 10:00 - 14:00
DESCRIPTION:
URL:https://bydgoskatenisowa.pl/event/turniej-15-marca/
LOCATION:Bydgoska Akademia Tenisowa\, Przemysła II 17\, Bydgoszcz\, 85-796\, Poland
CATEGORIES:Grand Prix,Grupa Pomarańczowa
END:VEVENT
BEGIN:VEVENT
DTSTART;TZID=Europe/Warsaw:20260321T150000
DTEND;TZID=Europe/Warsaw:20260321T200000
DTSTAMP:20260420T034245
CREATED:20260218T113820Z
LAST-MODIFIED:20260218T115545Z
UID:30415-1774105200-1774123200@bydgoskatenisowa.pl
SUMMARY:21 marca 15:00 - 20:00
DESCRIPTION:
URL:https://bydgoskatenisowa.pl/event/turniej-22-marca-2/
LOCATION:Bydgoska Akademia Tenisowa\, Przemysła II 17\, Bydgoszcz\, 85-796\, Poland
CATEGORIES:Grand Prix,Grupa Żółta 2
END:VEVENT
BEGIN:VEVENT
DTSTART;TZID=Europe/Warsaw:20260322T100000
DTEND;TZID=Europe/Warsaw:20260322T140000
DTSTAMP:20260420T034245
CREATED:20241016T083059Z
LAST-MODIFIED:20251117T212708Z
UID:28078-1774173600-1774188000@bydgoskatenisowa.pl
SUMMARY:22 marca 10:00 - 14:00
DESCRIPTION:
URL:https://bydgoskatenisowa.pl/event/turniej-22-marca/
LOCATION:Bydgoska Akademia Tenisowa\, Przemysła II 17\, Bydgoszcz\, 85-796\, Poland
CATEGORIES:Grand Prix,Grupa Żółta
END:VEVENT
BEGIN:VEVENT
DTSTART;TZID=Europe/Warsaw:20260411T150000
DTEND;TZID=Europe/Warsaw:20260411T180000
DTSTAMP:20260420T034245
CREATED:20241016T080455Z
LAST-MODIFIED:20251117T212019Z
UID:28059-1775919600-1775930400@bydgoskatenisowa.pl
SUMMARY:11 kwietnia 15:00 - 18:00
DESCRIPTION:
URL:https://bydgoskatenisowa.pl/event/turniej-11-kwietnia/
LOCATION:Bydgoska Akademia Tenisowa\, Przemysła II 17\, Bydgoszcz\, 85-796\, Poland
CATEGORIES:Grand Prix,Grupa Pomarańczowa 2
END:VEVENT
BEGIN:VEVENT
DTSTART;TZID=Europe/Warsaw:20260412T100000
DTEND;TZID=Europe/Warsaw:20260412T140000
DTSTAMP:20260420T034245
CREATED:20241016T081104Z
LAST-MODIFIED:20251117T212453Z
UID:28068-1775988000-1776002400@bydgoskatenisowa.pl
SUMMARY:12 kwietnia 10:00 - 14:00
DESCRIPTION:
URL:https://bydgoskatenisowa.pl/event/turniej-12-kwietnia/
LOCATION:Bydgoska Akademia Tenisowa\, Przemysła II 17\, Bydgoszcz\, 85-796\, Poland
CATEGORIES:Grand Prix,Grupa Zielona
END:VEVENT
BEGIN:VEVENT
DTSTART;TZID=Europe/Warsaw:20260418T150000
DTEND;TZID=Europe/Warsaw:20260418T180000
DTSTAMP:20260420T034245
CREATED:20241016T074833Z
LAST-MODIFIED:20251117T211009Z
UID:28033-1776524400-1776535200@bydgoskatenisowa.pl
SUMMARY:18 kwietnia 15:00 - 18:00
DESCRIPTION:
URL:https://bydgoskatenisowa.pl/event/turniej-18-kwietnia/
LOCATION:Bydgoska Akademia Tenisowa\, Przemysła II 17\, Bydgoszcz\, 85-796\, Poland
CATEGORIES:Grand Prix,Grupa Czerwona
END:VEVENT
BEGIN:VEVENT
DTSTART;TZID=Europe/Warsaw:20260419T100000
DTEND;TZID=Europe/Warsaw:20260419T140000
DTSTAMP:20260420T034245
CREATED:20241016T082710Z
LAST-MODIFIED:20251117T212741Z
UID:28076-1776592800-1776607200@bydgoskatenisowa.pl
SUMMARY:19 kwietnia 10:00 - 14:00
DESCRIPTION:
URL:https://bydgoskatenisowa.pl/event/turniej-19-kwietnia/
LOCATION:Bydgoska Akademia Tenisowa\, Przemysła II 17\, Bydgoszcz\, 85-796\, Poland
CATEGORIES:Grand Prix,Grupa Żółta
END:VEVENT
BEGIN:VEVENT
DTSTART;TZID=Europe/Warsaw:20260425T150000
DTEND;TZID=Europe/Warsaw:20260425T200000
DTSTAMP:20260420T034245
CREATED:20260218T114000Z
LAST-MODIFIED:20260218T115425Z
UID:30417-1777129200-1777147200@bydgoskatenisowa.pl
SUMMARY:25 kwietnia 15:00 - 20:00
DESCRIPTION:
URL:https://bydgoskatenisowa.pl/event/turniej-19-kwietnia-2/
LOCATION:Bydgoska Akademia Tenisowa\, Przemysła II 17\, Bydgoszcz\, 85-796\, Poland
CATEGORIES:Grand Prix,Grupa Żółta 2
END:VEVENT
BEGIN:VEVENT
DTSTART;TZID=Europe/Warsaw:20260426T100000
DTEND;TZID=Europe/Warsaw:20260426T140000
DTSTAMP:20260420T034245
CREATED:20241016T075735Z
LAST-MODIFIED:20251117T211509Z
UID:28048-1777197600-1777212000@bydgoskatenisowa.pl
SUMMARY:26 kwietnia 10:00 - 14:00
DESCRIPTION:
URL:https://bydgoskatenisowa.pl/event/turniej-26-kwietnia/
LOCATION:Bydgoska Akademia Tenisowa\, Przemysła II 17\, Bydgoszcz\, 85-796\, Poland
CATEGORIES:Grand Prix,Grupa Pomarańczowa
END:VEVENT
END:VCALENDAR