BEGIN:VCALENDAR
VERSION:2.0
PRODID:-//Bydgoska Akademia Tenisowa - ECPv6.11.2//NONSGML v1.0//EN
CALSCALE:GREGORIAN
METHOD:PUBLISH
X-ORIGINAL-URL:https://bydgoskatenisowa.pl
X-WR-CALDESC:Wydarzenia dla Bydgoska Akademia Tenisowa
REFRESH-INTERVAL;VALUE=DURATION:PT1H
X-Robots-Tag:noindex
X-PUBLISHED-TTL:PT1H
BEGIN:VTIMEZONE
TZID:Europe/Warsaw
BEGIN:DAYLIGHT
TZOFFSETFROM:+0100
TZOFFSETTO:+0200
TZNAME:CEST
DTSTART:20240331T010000
END:DAYLIGHT
BEGIN:STANDARD
TZOFFSETFROM:+0200
TZOFFSETTO:+0100
TZNAME:CET
DTSTART:20241027T010000
END:STANDARD
END:VTIMEZONE
BEGIN:VEVENT
DTSTART;VALUE=DATE:20241102
DTEND;VALUE=DATE:20241103
DTSTAMP:20260420T000500
CREATED:20241031T082051Z
LAST-MODIFIED:20241031T084357Z
UID:28230-1730505600-1730591999@bydgoskatenisowa.pl
SUMMARY:Sportowa sobota
DESCRIPTION:
URL:https://bydgoskatenisowa.pl/event/sportowa-sobota/
LOCATION:Bydgoska Akademia Tenisowa\, Przemysła II 17\, Bydgoszcz\, 85-796\, Poland
CATEGORIES:Wydarzenia klubu tenisowego
ATTACH;FMTTYPE=image/png:https://bydgoskatenisowa.pl/wp-content/uploads/2024/10/cropped-favicon.png
END:VEVENT
END:VCALENDAR