BEGIN:VCALENDAR
VERSION:2.0
PRODID:-//Bydgoska Akademia Tenisowa - ECPv6.11.2//NONSGML v1.0//EN
CALSCALE:GREGORIAN
METHOD:PUBLISH
X-ORIGINAL-URL:https://bydgoskatenisowa.pl
X-WR-CALDESC:Wydarzenia dla Bydgoska Akademia Tenisowa
REFRESH-INTERVAL;VALUE=DURATION:PT1H
X-Robots-Tag:noindex
X-PUBLISHED-TTL:PT1H
BEGIN:VTIMEZONE
TZID:Europe/Warsaw
BEGIN:DAYLIGHT
TZOFFSETFROM:+0100
TZOFFSETTO:+0200
TZNAME:CEST
DTSTART:20260329T010000
END:DAYLIGHT
BEGIN:STANDARD
TZOFFSETFROM:+0200
TZOFFSETTO:+0100
TZNAME:CET
DTSTART:20261025T010000
END:STANDARD
END:VTIMEZONE
BEGIN:VEVENT
DTSTART;TZID=Europe/Warsaw:20260301T100000
DTEND;TZID=Europe/Warsaw:20260301T140000
DTSTAMP:20260419T222031
CREATED:20241016T083820Z
LAST-MODIFIED:20251117T212412Z
UID:28085-1772359200-1772373600@bydgoskatenisowa.pl
SUMMARY:1 marca 10:00 - 14:00
DESCRIPTION:
URL:https://bydgoskatenisowa.pl/event/turniej-1-marca/
LOCATION:Bydgoska Akademia Tenisowa\, Przemysła II 17\, Bydgoszcz\, 85-796\, Poland
CATEGORIES:Grand Prix,Grupa Zielona
END:VEVENT
BEGIN:VEVENT
DTSTART;TZID=Europe/Warsaw:20260307T150000
DTEND;TZID=Europe/Warsaw:20260307T180000
DTSTAMP:20260419T222031
CREATED:20241016T074932Z
LAST-MODIFIED:20251117T210855Z
UID:28035-1772895600-1772906400@bydgoskatenisowa.pl
SUMMARY:7 marca 15:00 - 18:00
DESCRIPTION:
URL:https://bydgoskatenisowa.pl/event/turniej-7-marca/
LOCATION:Bydgoska Akademia Tenisowa\, Przemysła II 17\, Bydgoszcz\, 85-796\, Poland
CATEGORIES:Grand Prix,Grupa Czerwona
END:VEVENT
BEGIN:VEVENT
DTSTART;TZID=Europe/Warsaw:20260315T100000
DTEND;TZID=Europe/Warsaw:20260315T140000
DTSTAMP:20260419T222031
CREATED:20241016T075923Z
LAST-MODIFIED:20251117T211415Z
UID:28050-1773568800-1773583200@bydgoskatenisowa.pl
SUMMARY:15 marca 10:00 - 14:00
DESCRIPTION:
URL:https://bydgoskatenisowa.pl/event/turniej-15-marca/
LOCATION:Bydgoska Akademia Tenisowa\, Przemysła II 17\, Bydgoszcz\, 85-796\, Poland
CATEGORIES:Grand Prix,Grupa Pomarańczowa
END:VEVENT
BEGIN:VEVENT
DTSTART;TZID=Europe/Warsaw:20260321T150000
DTEND;TZID=Europe/Warsaw:20260321T200000
DTSTAMP:20260419T222031
CREATED:20260218T113820Z
LAST-MODIFIED:20260218T115545Z
UID:30415-1774105200-1774123200@bydgoskatenisowa.pl
SUMMARY:21 marca 15:00 - 20:00
DESCRIPTION:
URL:https://bydgoskatenisowa.pl/event/turniej-22-marca-2/
LOCATION:Bydgoska Akademia Tenisowa\, Przemysła II 17\, Bydgoszcz\, 85-796\, Poland
CATEGORIES:Grand Prix,Grupa Żółta 2
END:VEVENT
BEGIN:VEVENT
DTSTART;TZID=Europe/Warsaw:20260322T100000
DTEND;TZID=Europe/Warsaw:20260322T140000
DTSTAMP:20260419T222031
CREATED:20241016T083059Z
LAST-MODIFIED:20251117T212708Z
UID:28078-1774173600-1774188000@bydgoskatenisowa.pl
SUMMARY:22 marca 10:00 - 14:00
DESCRIPTION:
URL:https://bydgoskatenisowa.pl/event/turniej-22-marca/
LOCATION:Bydgoska Akademia Tenisowa\, Przemysła II 17\, Bydgoszcz\, 85-796\, Poland
CATEGORIES:Grand Prix,Grupa Żółta
END:VEVENT
END:VCALENDAR